BEGIN:VCALENDAR
VERSION:2.0
PRODID:-// Oakwood Resort - ECPv6.15.18//NONSGML v1.0//EN
CALSCALE:GREGORIAN
METHOD:PUBLISH
X-ORIGINAL-URL:https://oakwoodresort.ca
X-WR-CALDESC:Events for  Oakwood Resort
REFRESH-INTERVAL;VALUE=DURATION:PT1H
X-Robots-Tag:noindex
X-PUBLISHED-TTL:PT1H
BEGIN:VTIMEZONE
TZID:UTC
BEGIN:STANDARD
TZOFFSETFROM:+0000
TZOFFSETTO:+0000
TZNAME:UTC
DTSTART:20250101T000000
END:STANDARD
END:VTIMEZONE
BEGIN:VEVENT
DTSTART;TZID=UTC:20260110T200000
DTEND;TZID=UTC:20260110T220000
DTSTAMP:20260420T073709
CREATED:20260105T171153Z
LAST-MODIFIED:20260105T180130Z
UID:7445-1768075200-1768082400@oakwoodresort.ca
SUMMARY:Live Music Saturdays: Graham Bedard
DESCRIPTION:Live Music Saturdays continue at Dave’s Pub & Grill with the return of Graham Bedard\, a fan favourite known for his polished vocals and versatile acoustic style. Graham blends modern hits\, timeless classics\, and country influences into a set that connects effortlessly with the room. \nPerfect for winter nights\, Dave’s Pub & Grill offers an inviting setting where live music\, hearty food\, and friendly service come together. Join us Saturday night at 7PM and experience why Live Music Saturdays have become a staple for locals and guests alike in Grand Bend. \nMake A Reservation
URL:https://oakwoodresort.ca/event/live-music-saturdays-graham-bedard-3/
LOCATION:Dave’s Pub & Grill\, 70671 Bluewater Highway\, Grand Bend\, Ontario\, Canada
CATEGORIES:Dave's Pub & Grill,Live Music
ATTACH;FMTTYPE=image/jpeg:https://oakwoodresort.ca/wp-content/uploads/2026/01/LM_GrahamBedard_Jan10-03-1-scaled.jpg
END:VEVENT
END:VCALENDAR