BEGIN:VCALENDAR
VERSION:2.0
PRODID:-// Oakwood Resort - ECPv6.15.18//NONSGML v1.0//EN
CALSCALE:GREGORIAN
METHOD:PUBLISH
X-WR-CALNAME: Oakwood Resort
X-ORIGINAL-URL:https://oakwoodresort.ca
X-WR-CALDESC:Events for  Oakwood Resort
REFRESH-INTERVAL;VALUE=DURATION:PT1H
X-Robots-Tag:noindex
X-PUBLISHED-TTL:PT1H
BEGIN:VTIMEZONE
TZID:UTC
BEGIN:STANDARD
TZOFFSETFROM:+0000
TZOFFSETTO:+0000
TZNAME:UTC
DTSTART:20250101T000000
END:STANDARD
END:VTIMEZONE
BEGIN:VEVENT
DTSTART;TZID=UTC:20260321T190000
DTEND;TZID=UTC:20260321T220000
DTSTAMP:20260420T043535
CREATED:20260306T170823Z
LAST-MODIFIED:20260306T170823Z
UID:7906-1774119600-1774130400@oakwoodresort.ca
SUMMARY:Live Music Saturdays: Terry Mancini
DESCRIPTION:Terry Mancini – Live Music Saturday at Dave’s Pub & Grill\n  \nSpend your Saturday night enjoying Live Music Saturdays at Dave’s Pub & Grill with a performance from Terry Mancini on March 21 at 7PM. \nTerry Mancini is a London-based singer-songwriter known for his smooth vocal delivery and impressive catalogue of music that spans decades. His live performances feature an engaging mix of classic hits from the 1960s through today\, making him a favourite among audiences who appreciate familiar songs performed with warmth and authenticity. \nTerry’s ability to move effortlessly between genres and eras creates a relaxed and enjoyable live music experience\, perfect for an evening out at the pub. Guests can expect a soundtrack of beloved favourites paired with the welcoming atmosphere that Dave’s Pub & Grill is known for. \nLive Music Saturdays continue to bring some of the region’s best local musicians to Grand Bend for weekly performances that celebrate live music and community. \nMusic begins at 7PM. \nMake a reservation and enjoy dinner and live music at Dave’s Pub & Grill.
URL:https://oakwoodresort.ca/event/live-music-saturdays-terry-mancini-2/
LOCATION:Dave’s Pub & Grill\, 70671 Bluewater Highway\, Grand Bend\, Ontario\, Canada
CATEGORIES:Dave's Pub & Grill,Live Music
ATTACH;FMTTYPE=image/jpeg:https://oakwoodresort.ca/wp-content/uploads/2026/03/LM_TerryMancini_Mar21-03-scaled.jpg
END:VEVENT
END:VCALENDAR